BEGIN:VCALENDAR
VERSION:2.0
PRODID:-//Bogensportvereine Artemis Österreich - ECPv6.15.20//NONSGML v1.0//EN
CALSCALE:GREGORIAN
METHOD:PUBLISH
X-WR-CALNAME:Bogensportvereine Artemis Österreich
X-ORIGINAL-URL:https://www.bogen.info
X-WR-CALDESC:Veranstaltungen für Bogensportvereine Artemis Österreich
REFRESH-INTERVAL;VALUE=DURATION:PT1H
X-Robots-Tag:noindex
X-PUBLISHED-TTL:PT1H
BEGIN:VTIMEZONE
TZID:Europe/Vienna
BEGIN:DAYLIGHT
TZOFFSETFROM:+0100
TZOFFSETTO:+0200
TZNAME:CEST
DTSTART:20220327T010000
END:DAYLIGHT
BEGIN:STANDARD
TZOFFSETFROM:+0200
TZOFFSETTO:+0100
TZNAME:CET
DTSTART:20221030T010000
END:STANDARD
BEGIN:DAYLIGHT
TZOFFSETFROM:+0100
TZOFFSETTO:+0200
TZNAME:CEST
DTSTART:20230326T010000
END:DAYLIGHT
BEGIN:STANDARD
TZOFFSETFROM:+0200
TZOFFSETTO:+0100
TZNAME:CET
DTSTART:20231029T010000
END:STANDARD
BEGIN:DAYLIGHT
TZOFFSETFROM:+0100
TZOFFSETTO:+0200
TZNAME:CEST
DTSTART:20240331T010000
END:DAYLIGHT
BEGIN:STANDARD
TZOFFSETFROM:+0200
TZOFFSETTO:+0100
TZNAME:CET
DTSTART:20241027T010000
END:STANDARD
END:VTIMEZONE
BEGIN:VEVENT
DTSTART;VALUE=DATE:20230812
DTEND;VALUE=DATE:20230816
DTSTAMP:20260425T023318
CREATED:20221029T100035Z
LAST-MODIFIED:20230325T131733Z
UID:10004774-1691798400-1692143999@www.bogen.info
SUMMARY:(L) ÖSTM/ÖM WA Feld
DESCRIPTION:Link zur Ausschreibung: Klick
URL:https://www.bogen.info/event/l-oestm-oem-wa-feld/
CATEGORIES:Turnierkalender,Veranstaltungen,Wien
ATTACH;FMTTYPE=image/png:https://www.bogen.info/wp-content/uploads/2022/10/Screenshot-2023-03-25-135321.png
END:VEVENT
BEGIN:VEVENT
DTSTART;TZID=Europe/Vienna:20230813T090000
DTEND;TZID=Europe/Vienna:20230813T170000
DTSTAMP:20260425T023318
CREATED:20230606T071622Z
LAST-MODIFIED:20230612T114432Z
UID:10005298-1691917200-1691946000@www.bogen.info
SUMMARY:Sommercamp 2023
DESCRIPTION:Artemis Sommercamp 2023\nLeistungsorientierte Schützen trainieren von 07.08. – 13.08.2023 täglich mit Christian Wöll und Gustavo auf alle Distanzen. \nAnmeldung bei Christoph.Wach@bogen.info möglich.
URL:https://www.bogen.info/event/sommercamp-2023/2023-08-13/
LOCATION:Wien Standort Kagran (Kleefeld)\, Claudia Heill Weg 4\, Wien\, 1220\, Austria
CATEGORIES:Kurse
ORGANIZER;CN="UBSC Artemis Wien":MAILTO:wien@bogen.info
GEO:48.24702;16.45401
X-APPLE-STRUCTURED-LOCATION;VALUE=URI;X-ADDRESS=Wien Standort Kagran (Kleefeld) Claudia Heill Weg 4 Wien 1220 Austria;X-APPLE-RADIUS=500;X-TITLE=Claudia Heill Weg 4:geo:16.45401,48.24702
END:VEVENT
END:VCALENDAR