BEGIN:VCALENDAR
VERSION:2.0
PRODID:-//Bogensportvereine Artemis Österreich - ECPv6.15.20//NONSGML v1.0//EN
CALSCALE:GREGORIAN
METHOD:PUBLISH
X-WR-CALNAME:Bogensportvereine Artemis Österreich
X-ORIGINAL-URL:https://www.bogen.info
X-WR-CALDESC:Veranstaltungen für Bogensportvereine Artemis Österreich
REFRESH-INTERVAL;VALUE=DURATION:PT1H
X-Robots-Tag:noindex
X-PUBLISHED-TTL:PT1H
BEGIN:VTIMEZONE
TZID:Europe/Vienna
BEGIN:DAYLIGHT
TZOFFSETFROM:+0100
TZOFFSETTO:+0200
TZNAME:CEST
DTSTART:20220327T010000
END:DAYLIGHT
BEGIN:STANDARD
TZOFFSETFROM:+0200
TZOFFSETTO:+0100
TZNAME:CET
DTSTART:20221030T010000
END:STANDARD
BEGIN:DAYLIGHT
TZOFFSETFROM:+0100
TZOFFSETTO:+0200
TZNAME:CEST
DTSTART:20230326T010000
END:DAYLIGHT
BEGIN:STANDARD
TZOFFSETFROM:+0200
TZOFFSETTO:+0100
TZNAME:CET
DTSTART:20231029T010000
END:STANDARD
BEGIN:DAYLIGHT
TZOFFSETFROM:+0100
TZOFFSETTO:+0200
TZNAME:CEST
DTSTART:20240331T010000
END:DAYLIGHT
BEGIN:STANDARD
TZOFFSETFROM:+0200
TZOFFSETTO:+0100
TZNAME:CET
DTSTART:20241027T010000
END:STANDARD
END:VTIMEZONE
BEGIN:VEVENT
DTSTART;VALUE=DATE:20230916
DTEND;VALUE=DATE:20230917
DTSTAMP:20260425T011756
CREATED:20230809T103037Z
LAST-MODIFIED:20230809T103037Z
UID:10005345-1694822400-1694908799@www.bogen.info
SUMMARY:Bogenturnier auf der Schallaburg
DESCRIPTION:für Anfänger & Hobbysportler\n>>> Ausschreibung \n>>> Anmeldung \nSa.\, 16. 9. 2023\nVeranstalter: UBSC Artemis Neulengbach\nVeranstaltungsort: Schallaburg 1\, 3382 Schallaburg (Anreiseinformationen auf www.schallaburg.at)\nTurnierbeitrag & Tagespauschale (inkludiert Turnierteilnahme\, Eintritt & Führung bei der heurigen Ausstellung “Kind sein”): 15 EURO\nWertung: 1. Durchgang 3×6 Pfeile auf 15m (FITA 80cm) / 2. Durchgang 3×6 Pfeile auf 20m (FITA 80cm)\nBogenklassen: Alle traditionellen Bogenklassen mit Holzmittelstück\nAltersklassen: Alle Schützinnen und Schützen kommen in eine Wertung\, Teilnahme ab 14 J.\nAblauf: Training & Anmeldung 09:00 – 09:45 Uhr\nBegrüßung: 09:45 – 10:00 Uhr \n\nBeginn des ersten Durchgangs ab 10 Uhr\nPause\nBeginn 2. Durchgang ab 11 Uhr\nSiegerehrung\n\nAlle Teilnehmenden erhalten eine kostenlose Jahreskarte für die Saison 2023 “Schallacard”. Im Anschluss an das Turnier um 14 Uhr besteht die Möglichkeit\, eine Führung durch die Ausstellung “Kind sein” mitzumachen (ist im Turnierbeitrag inkludiert).\nMittagessen im Restaurant der Schallaburg möglich. (Selbst zu bezahlen)
URL:https://www.bogen.info/event/bogenturnier-auf-der-schallaburg/
LOCATION:Schallaburg
CATEGORIES:Neulengbach,Turniere von Artemis,Turnierkalender
ATTACH;FMTTYPE=image/png:https://www.bogen.info/wp-content/uploads/2023/08/Schallaburg.png
ORGANIZER;CN="UBSC Artemis Neulengbach":MAILTO:neulengbach@bogen.info
END:VEVENT
BEGIN:VEVENT
DTSTART;TZID=Europe/Vienna:20230916T103000
DTEND;TZID=Europe/Vienna:20230916T123000
DTSTAMP:20260425T011756
CREATED:20230306T110951Z
LAST-MODIFIED:20230306T110951Z
UID:10004931-1694860200-1694867400@www.bogen.info
SUMMARY:Training "Jugend_3" - Anfänger
DESCRIPTION:Training “Jugend_3” – Anfänger\nDauer: April – September ( Samstag von 10:30-12:30) Outdoorplatz Stockerau\nBeginn: 01.04.2023 \nTrainer: Ingrid & Ernst \nUmfang:\nSpielerisch werden wir dir die Grundtechnik des Bogenschießens vermitteln\, aber auch Reaktions – und Konzentrationsaufgaben sowie Teamspiele stehen auf unserem Trainingsplan. Auch das Schießen auf Luftballons und Fun – Auflagen darf natürlich nicht fehlen. \nEinstieg jederzeit möglich! \nAnmeldung:\nDie Anmeldung erfolgt hier.
URL:https://www.bogen.info/event/training-jugend_3-anfaenger-2/2023-09-16/
LOCATION:Stockerau Outdoorplatz\, UBSC Artemis Stockerau - Au\, Stockerau\, Niederösterreich\, 2000\, Österreich
CATEGORIES:Kurse,Stockerau
ATTACH;FMTTYPE=image/jpeg:https://www.bogen.info/wp-content/uploads/2022/04/Training_Jugend3_Logo_klein.jpg
ORGANIZER;CN="UBSC Artemis Stockerau":MAILTO:stockerau@bogen.info
GEO:48.376995269107;16.211077346419
X-APPLE-STRUCTURED-LOCATION;VALUE=URI;X-ADDRESS=Stockerau Outdoorplatz UBSC Artemis Stockerau - Au Stockerau Niederösterreich 2000 Österreich;X-APPLE-RADIUS=500;X-TITLE=UBSC Artemis Stockerau - Au:geo:16.211077346419,48.376995269107
END:VEVENT
BEGIN:VEVENT
DTSTART;TZID=Europe/Vienna:20230916T133000
DTEND;TZID=Europe/Vienna:20230916T153000
DTSTAMP:20260425T011756
CREATED:20220418T194918Z
LAST-MODIFIED:20230306T104501Z
UID:10004612-1694871000-1694878200@www.bogen.info
SUMMARY:Training "Jugend_1B" - Leistung - Outdoorplatz Stockerau
DESCRIPTION:Training “Jugend_1B” – Leistung\nDauer: April – September ( Samstag von 13:30-15:30) Outdoorplatz Stockerau \nBeginn: 01 .04.2023 \nTrainer: Ingrid & Ernst \nUmfang:\nDu bist zwischen 10 und 18 Jahre alt?\nDu kennst die Grundtechnik des Bogenschießens und schießt sicher auf 18m Indoor und 30m Outdoor?\nDu willst mehr als nur Spaß haben?\nDu möchtest an Turnieren teilnehmen und dich mit anderen messen?\nDann bist du hier richtig! \nEinstieg jederzeit möglich! \nAnmeldung:\nDie Anmeldung erfolgt hier.
URL:https://www.bogen.info/event/betreutes-training-fuer-erwachsene-mit-barbara-ingrid-martin-ernst-und-michael-outdoorplatz-stockerau/2023-09-16/
LOCATION:Stockerau Outdoorplatz\, UBSC Artemis Stockerau - Au\, Stockerau\, Niederösterreich\, 2000\, Österreich
CATEGORIES:Kurse,Stockerau
ATTACH;FMTTYPE=image/jpeg:https://www.bogen.info/wp-content/uploads/2022/04/Jugend_1B_Logo.jpg
ORGANIZER;CN="UBSC Artemis Stockerau":MAILTO:stockerau@bogen.info
GEO:48.376995269107;16.211077346419
X-APPLE-STRUCTURED-LOCATION;VALUE=URI;X-ADDRESS=Stockerau Outdoorplatz UBSC Artemis Stockerau - Au Stockerau Niederösterreich 2000 Österreich;X-APPLE-RADIUS=500;X-TITLE=UBSC Artemis Stockerau - Au:geo:16.211077346419,48.376995269107
END:VEVENT
BEGIN:VEVENT
DTSTART;TZID=Europe/Vienna:20230916T133000
DTEND;TZID=Europe/Vienna:20230916T153000
DTSTAMP:20260425T011756
CREATED:20230327T092052Z
LAST-MODIFIED:20230327T094425Z
UID:10004998-1694871000-1694878200@www.bogen.info
SUMMARY:Training "Jugend_1A - Leistung"
DESCRIPTION:Training “Jugend_1A – Leistung”\n  \nDauer: April – September (Donnerstag von 17:00-19:00 und Samstag von 13:30-15:30) Outdoorplatz Stockerau \nBeginn: 01.04.2023 \nTrainer: Ingrid & Ernst \nUmfang:\nDu bist zwischen 10 und 18 Jahre alt?\nDu kennst die Grundtechnik des Bogenschießens und schießt sicher auf 18m Indoor und 30m Outdoor?\nDu willst mehr als nur Spaß haben?\nDu möchtest an Turnieren teilnehmen und dich mit anderen messen?\nDann bist du hier richtig! \nEinstieg jederzeit möglich! \n  \nAnmeldung:\nDie Anmeldung erfolgt hier.
URL:https://www.bogen.info/event/training-jugend_1a-leistung/2023-09-16/
LOCATION:Stockerau Outdoorplatz\, UBSC Artemis Stockerau - Au\, Stockerau\, Niederösterreich\, 2000\, Österreich
CATEGORIES:Kurse
ATTACH;FMTTYPE=image/jpeg:https://www.bogen.info/wp-content/uploads/2022/04/Jugend_1A_Logo.jpg
GEO:48.376995269107;16.211077346419
X-APPLE-STRUCTURED-LOCATION;VALUE=URI;X-ADDRESS=Stockerau Outdoorplatz UBSC Artemis Stockerau - Au Stockerau Niederösterreich 2000 Österreich;X-APPLE-RADIUS=500;X-TITLE=UBSC Artemis Stockerau - Au:geo:16.211077346419,48.376995269107
END:VEVENT
BEGIN:VEVENT
DTSTART;TZID=Europe/Vienna:20230916T153000
DTEND;TZID=Europe/Vienna:20230916T173000
DTSTAMP:20260425T011756
CREATED:20230306T110256Z
LAST-MODIFIED:20230319T191431Z
UID:10004877-1694878200-1694885400@www.bogen.info
SUMMARY:Betreutes Training für Erwachsene - Outdoorplatz
DESCRIPTION:Betreutes Training für Erwachsene – Bogenschießen\nDauer: April – September 2023 (Samstag\, 15:30-17:30) – Outdoorplatz Stockerau \nTrainingsbeginn: 01.04.2023 \nTrainer: Martin \nUmfang:\nWir bieten während der Outdoorsaison ein geführtes Training an. Das bedeutet\, dass in dieser Zeit immer ein Übungsleiter/Instruktor da sein und mit euch gemeinsam trainieren wird. So kann gut auf individuelle Wünsche und Probleme eingegangen werden.Das bietet die Möglichkeit\, jederzeit Fragen zu stellen und sich gegenseitig auszutauschen. Du erhältst Tipps und Übungsmöglichkeiten um dein Training interessanter und abwechslungsreicher zu gestalten.Es gibt bei jedem Termin einen bestimmten Schwerpunkt. Eine tolle Möglichkeit für alle Erwachsenen die zumindest einmal pro Woche in der Gruppe trainieren möchten. \nAnmeldung:\nDie Anmeldung erfolgt hier.
URL:https://www.bogen.info/event/betreutes-training-fuer-erwachsene-outdoorplatz/2023-09-16/
LOCATION:Stockerau Outdoorplatz\, UBSC Artemis Stockerau - Au\, Stockerau\, Niederösterreich\, 2000\, Österreich
CATEGORIES:Kurse,Stockerau
ATTACH;FMTTYPE=image/jpeg:https://www.bogen.info/wp-content/uploads/2022/10/BetreutesTraining_Logo_klein1.jpg
ORGANIZER;CN="UBSC Artemis Stockerau":MAILTO:stockerau@bogen.info
GEO:48.376995269107;16.211077346419
X-APPLE-STRUCTURED-LOCATION;VALUE=URI;X-ADDRESS=Stockerau Outdoorplatz UBSC Artemis Stockerau - Au Stockerau Niederösterreich 2000 Österreich;X-APPLE-RADIUS=500;X-TITLE=UBSC Artemis Stockerau - Au:geo:16.211077346419,48.376995269107
END:VEVENT
BEGIN:VEVENT
DTSTART;TZID=Europe/Vienna:20230916T153000
DTEND;TZID=Europe/Vienna:20230916T173000
DTSTAMP:20260425T011756
CREATED:20230306T110605Z
LAST-MODIFIED:20230306T110605Z
UID:10004904-1694878200-1694885400@www.bogen.info
SUMMARY:Training "Jugend_2" - Fortgeschrittene
DESCRIPTION:Training “Jugend_2” – Fortgeschrittene\nDauer: April – September ( Samstag von 15:30-17:30) Outdoorplatz Stockerau \nBeginn: 01.04.2023 \nTrainer: Ingrid & Ernst \nUmfang:\nIn dieser Trainingsgruppe bieten wir dir das Vertiefen und Festigen der Grundtechnik\, kombiniert mit Spiel und Spaß an. Spaß – Wettbewerbe und Schießen auf  Fun – Auflagen gehören auch dazu\, ebenso wie Übungen zum Kraftaufbau\, zur Konzentration – und Ausdauersteigerung. Für alle Jugendlichen zwischen 10 und 18 Jahre\, denen Bogenschießen gefällt und die gerne mit Gleichgesinnten ihre Kenntnisse vertiefen\, Freundschaften bilden und ihr Können bei Events unter Beweis stellen wollen\, ist diese Trainingsgruppe die richtige. \nEinstieg jederzeit möglich! \nAnmeldung:\nDie Anmeldung erfolgt hier.
URL:https://www.bogen.info/event/training-jugend_2-fortgeschrittene/2023-09-16/
LOCATION:Stockerau Outdoorplatz\, UBSC Artemis Stockerau - Au\, Stockerau\, Niederösterreich\, 2000\, Österreich
CATEGORIES:Kurse,Stockerau
ATTACH;FMTTYPE=image/jpeg:https://www.bogen.info/wp-content/uploads/2022/04/Training_Jugend2_Logo_klein.jpg
ORGANIZER;CN="UBSC Artemis Stockerau":MAILTO:stockerau@bogen.info
GEO:48.376995269107;16.211077346419
X-APPLE-STRUCTURED-LOCATION;VALUE=URI;X-ADDRESS=Stockerau Outdoorplatz UBSC Artemis Stockerau - Au Stockerau Niederösterreich 2000 Österreich;X-APPLE-RADIUS=500;X-TITLE=UBSC Artemis Stockerau - Au:geo:16.211077346419,48.376995269107
END:VEVENT
BEGIN:VEVENT
DTSTART;TZID=Europe/Vienna:20230916T153000
DTEND;TZID=Europe/Vienna:20230916T173000
DTSTAMP:20260425T011756
CREATED:20230327T090613Z
LAST-MODIFIED:20230327T090613Z
UID:10004970-1694878200-1694885400@www.bogen.info
SUMMARY:Leistungsorientiertes Training für Erwachsene - Outdoorplatz Stockerau
DESCRIPTION:Leistungsorientiertes Training für Erwachsene\n  \nDauer: April-September (Samstag 15:30-17:30) – Freiplatz Stockerau \nTrainingsbeginn: 01.04.2023 \nTrainer: Michael \n  \nWir bieten für oben genannten Zeitraum ein leistungsorientiertes Training an. Das bedeutet\, es wird gezielt mit jedem einzelnen trainiert um die eigene Leistungsfähigkeit ständig zu steigern. Eine Möglichkeit für alle Erwachsenen\, bei denen der Leistungsgedanke im Vordergrund steht\, Turnierteilnahmen und regelmäßige Trainingsteilnahmen sind hier Voraussetzung. \n  \nAnmeldung: \nDie Anmeldung erfolgt hier.
URL:https://www.bogen.info/event/leistungsorientiertes-training-fuer-erwachsene-outdoorplatz-stockerau/2023-09-16/
LOCATION:Stockerau Outdoorplatz\, UBSC Artemis Stockerau - Au\, Stockerau\, Niederösterreich\, 2000\, Österreich
CATEGORIES:Kurse
ATTACH;FMTTYPE=image/jpeg:https://www.bogen.info/wp-content/uploads/2023/03/Turniergruppe_Logo.jpg
GEO:48.376995269107;16.211077346419
X-APPLE-STRUCTURED-LOCATION;VALUE=URI;X-ADDRESS=Stockerau Outdoorplatz UBSC Artemis Stockerau - Au Stockerau Niederösterreich 2000 Österreich;X-APPLE-RADIUS=500;X-TITLE=UBSC Artemis Stockerau - Au:geo:16.211077346419,48.376995269107
END:VEVENT
END:VCALENDAR