BEGIN:VCALENDAR
VERSION:2.0
PRODID:-//Bogensportvereine Artemis Österreich - ECPv6.15.20//NONSGML v1.0//EN
CALSCALE:GREGORIAN
METHOD:PUBLISH
X-ORIGINAL-URL:https://www.bogen.info
X-WR-CALDESC:Veranstaltungen für Bogensportvereine Artemis Österreich
REFRESH-INTERVAL;VALUE=DURATION:PT1H
X-Robots-Tag:noindex
X-PUBLISHED-TTL:PT1H
BEGIN:VTIMEZONE
TZID:Europe/Vienna
BEGIN:DAYLIGHT
TZOFFSETFROM:+0100
TZOFFSETTO:+0200
TZNAME:CEST
DTSTART:20220327T010000
END:DAYLIGHT
BEGIN:STANDARD
TZOFFSETFROM:+0200
TZOFFSETTO:+0100
TZNAME:CET
DTSTART:20221030T010000
END:STANDARD
BEGIN:DAYLIGHT
TZOFFSETFROM:+0100
TZOFFSETTO:+0200
TZNAME:CEST
DTSTART:20230326T010000
END:DAYLIGHT
BEGIN:STANDARD
TZOFFSETFROM:+0200
TZOFFSETTO:+0100
TZNAME:CET
DTSTART:20231029T010000
END:STANDARD
BEGIN:DAYLIGHT
TZOFFSETFROM:+0100
TZOFFSETTO:+0200
TZNAME:CEST
DTSTART:20240331T010000
END:DAYLIGHT
BEGIN:STANDARD
TZOFFSETFROM:+0200
TZOFFSETTO:+0100
TZNAME:CET
DTSTART:20241027T010000
END:STANDARD
END:VTIMEZONE
BEGIN:VEVENT
DTSTART;TZID=Europe/Vienna:20230921T170000
DTEND;TZID=Europe/Vienna:20230921T190000
DTSTAMP:20260425T023625
CREATED:20230327T093619Z
LAST-MODIFIED:20230327T094315Z
UID:10005025-1695315600-1695322800@www.bogen.info
SUMMARY:Training "Jugend_1A - Leistung"
DESCRIPTION:Training “Jugend_1A – Leistung”\n  \nDauer: April – September (Donnerstag von 17:00-19:00 und Samstag von 13:30-15:30) Outdoorplatz Stockerau \nBeginn: 01.04.2023 \nTrainer: Ingrid & Ernst \nUmfang:\nDu bist zwischen 10 und 18 Jahre alt?\nDu kennst die Grundtechnik des Bogenschießens und schießt sicher auf 18m Indoor und 30m Outdoor?\nDu willst mehr als nur Spaß haben?\nDu möchtest an Turnieren teilnehmen und dich mit anderen messen?\nDann bist du hier richtig! \nEinstieg jederzeit möglich! \n  \nAnmeldung:\nDie Anmeldung erfolgt hier.
URL:https://www.bogen.info/event/training-jugend_1a-leistung-2/2023-09-21/
LOCATION:Stockerau Outdoorplatz\, UBSC Artemis Stockerau - Au\, Stockerau\, Niederösterreich\, 2000\, Österreich
CATEGORIES:Kurse
ATTACH;FMTTYPE=image/jpeg:https://www.bogen.info/wp-content/uploads/2022/04/Jugend_1A_Logo.jpg
GEO:48.376995269107;16.211077346419
X-APPLE-STRUCTURED-LOCATION;VALUE=URI;X-ADDRESS=Stockerau Outdoorplatz UBSC Artemis Stockerau - Au Stockerau Niederösterreich 2000 Österreich;X-APPLE-RADIUS=500;X-TITLE=UBSC Artemis Stockerau - Au:geo:16.211077346419,48.376995269107
END:VEVENT
BEGIN:VEVENT
DTSTART;TZID=Europe/Vienna:20230921T173000
DTEND;TZID=Europe/Vienna:20230921T193000
DTSTAMP:20260425T023625
CREATED:20230606T065603Z
LAST-MODIFIED:20231114T100909Z
UID:10005235-1695317400-1695324600@www.bogen.info
SUMMARY:Jugendtraining Wien
DESCRIPTION:Das Jugendtraining findet jeden Donnerstag von 17:30 – 19:30 statt. \nEs trainieren sowohl die Aufbaugruppe auf die kurzen als auch die Turniergruppe auf die langen Distanzen.
URL:https://www.bogen.info/event/jugendtraining-wien/2023-09-21/
LOCATION:Wien Standort Kagran (Kleefeld)\, Claudia Heill Weg 4\, Wien\, 1220\, Austria
CATEGORIES:Wien
ATTACH;FMTTYPE=image/jpeg:https://www.bogen.info/wp-content/uploads/2023/06/Artemis-Logo-mit-Kreis-Jugend.jpg
GEO:48.24702;16.45401
X-APPLE-STRUCTURED-LOCATION;VALUE=URI;X-ADDRESS=Wien Standort Kagran (Kleefeld) Claudia Heill Weg 4 Wien 1220 Austria;X-APPLE-RADIUS=500;X-TITLE=Claudia Heill Weg 4:geo:16.45401,48.24702
END:VEVENT
END:VCALENDAR