BEGIN:VCALENDAR
VERSION:2.0
PRODID:-//Bogensportvereine Artemis Österreich - ECPv6.15.20//NONSGML v1.0//EN
CALSCALE:GREGORIAN
METHOD:PUBLISH
X-WR-CALNAME:Bogensportvereine Artemis Österreich
X-ORIGINAL-URL:https://www.bogen.info
X-WR-CALDESC:Veranstaltungen für Bogensportvereine Artemis Österreich
REFRESH-INTERVAL;VALUE=DURATION:PT1H
X-Robots-Tag:noindex
X-PUBLISHED-TTL:PT1H
BEGIN:VTIMEZONE
TZID:Europe/Vienna
BEGIN:DAYLIGHT
TZOFFSETFROM:+0100
TZOFFSETTO:+0200
TZNAME:CEST
DTSTART:20220327T010000
END:DAYLIGHT
BEGIN:STANDARD
TZOFFSETFROM:+0200
TZOFFSETTO:+0100
TZNAME:CET
DTSTART:20221030T010000
END:STANDARD
BEGIN:DAYLIGHT
TZOFFSETFROM:+0100
TZOFFSETTO:+0200
TZNAME:CEST
DTSTART:20230326T010000
END:DAYLIGHT
BEGIN:STANDARD
TZOFFSETFROM:+0200
TZOFFSETTO:+0100
TZNAME:CET
DTSTART:20231029T010000
END:STANDARD
BEGIN:DAYLIGHT
TZOFFSETFROM:+0100
TZOFFSETTO:+0200
TZNAME:CEST
DTSTART:20240331T010000
END:DAYLIGHT
BEGIN:STANDARD
TZOFFSETFROM:+0200
TZOFFSETTO:+0100
TZNAME:CET
DTSTART:20241027T010000
END:STANDARD
END:VTIMEZONE
BEGIN:VEVENT
DTSTART;TZID=Europe/Vienna:20231107T170000
DTEND;TZID=Europe/Vienna:20231107T190000
DTSTAMP:20260424T233137
CREATED:20231028T085937Z
LAST-MODIFIED:20231028T085937Z
UID:10005355-1699376400-1699383600@www.bogen.info
SUMMARY:Beginn Anfängerkurs mit Gerhart Ertl 2/23 - im Kurszentrum Miesbachgasse
DESCRIPTION:Der Kurs besteht aus diesen Terminen:\n\n07.11.2023 17:00 – 19:00\n21.11.2023 17:00 – 19:00\n28.11.2023 17:00 – 19:00\n05.12.2023 17:00 – 19:00\n\n  \nKursdauer: 4×2 Stunden\nKursleiter: Gerhart Ertl\n\nKursumfang: \n\nVerhalten und Sicherheit beim Bogenschießen\nErlernen des Standard-Schussablaufs\nGrundlagen über das Material\nGrundlagen der verschiedenen Disziplinen beim Bogenschießen\nAblegen der ersten Pfeilprüfung zur Erlangung des „Weißen Pfeils“\n\nDie zweite Pfeilprüfung zum „Schwarzen Pfeil“ und damit die Erlangung der vollen Platzreife\nist im Kursbeitrag enthalten und kann nach selbstständigem Üben im Anschluss an den Kurs\nabgelegt werden. \n\nAnmeldung:\nDie Anmeldung erfolgt per Anmelde-Formular unten. \nKursort:\nDer Kurs findet im Kurszentrum Miesbachgasse statt.\nMiesbachgasse 4\, 1020 Wien\n(Pfadfinderheim) \nKursablauf: \nDen ersten und wichtigsten Punkt stellt das Kennenlernen und Beherzigen der Sicherheits- und\nVerhaltensregeln beim Bogenschießen dar\, der sich über den ganzen Kurs fortsetzt. \nUm so schnell wie möglich Spaß beim Bogenschießen zu haben\, wird der Schussablauf sowohl im\nTrockentraining mit verschiedenen Hilfsmitteln als auch mit dem Bogen eingeübt. Die dabei erlernte\nGrundtechnik führt nicht nur rasch zu den ersten Erfolgserlebnissen\, sondern soll auch auch von\nAnfang an das Auftreten von gesundheitlichen Problemen verhindern. \nDa das richtige Material eine wichtige Rolle für den Spaß beim Bogenschießen spielt\, ist auch ein\nÜberblick über die verschiedenen Bogentypen und die notwendige Ausrüstung Inhalt des Kurses. Es\nwerden Sicherheit\, das Auf- und Abbauen und die Pflege des Materials besprochen. Für die Dauer\ndes Kurses wird die notwendige Ausrüstung bereitgestellt. Auch die Anschaffung des ersten eigenen\nBogens wird besprochen. \nEin weiteres Thema sind die verschiedenen Disziplinen im Bogensport. Es werden die Grundbegriffe\nScheibenschießen\, Feldparcours und 3D durchgenommen\, sowie auch hier die notwendigen\nSicherheitsregeln besprochen. Ebenso wird das richtige Werten von Pfeilen in Turniersituationen und\ndas korrekte Ausfüllen eines Scorezettels unterrichtet. \nIn der letzten Kurseinheit kann dann die erste Pfeilprüfung zum „Weißen Pfeil“\, bestehend aus einem\ntheoretischen und einem praktischen Teil\, abgelegt werden. Im Anschluss an den Kurs kann nach\nselbstständigem Üben\, natürlich auch mit Unterstützung der Coaches\, die Prüfung zum „Schwarzen\nPfeil“ abgelegt und somit die volle Platzreife erlangt werden. \n\nAnmelde-Formular\n\n 
URL:https://www.bogen.info/event/beginn-anfaengerkurs-mit-gerhart-ertl-2-23-im-kurszentrum-miesbachgasse/
LOCATION:Wien Miesbachgasse\, Miesbachgasse 4\, Wien\, Wien\, 1020
CATEGORIES:Kurse,Wien
ATTACH;FMTTYPE=image/jpeg:https://www.bogen.info/wp-content/uploads/2022/03/Anfaengerkurse-Wien.jpg
ORGANIZER;CN="UBSC Artemis Wien":MAILTO:wien@bogen.info
GEO:48.2201828;16.3754166
X-APPLE-STRUCTURED-LOCATION;VALUE=URI;X-ADDRESS=Wien Miesbachgasse Miesbachgasse 4 Wien Wien 1020;X-APPLE-RADIUS=500;X-TITLE=Miesbachgasse 4:geo:16.3754166,48.2201828
END:VEVENT
BEGIN:VEVENT
DTSTART;TZID=Europe/Vienna:20231107T183000
DTEND;TZID=Europe/Vienna:20231107T210000
DTSTAMP:20260424T233137
CREATED:20231114T105623Z
LAST-MODIFIED:20240114T152014Z
UID:10005831-1699381800-1699390800@www.bogen.info
SUMMARY:Indoor-Training Hasenleitengasse
DESCRIPTION:In der Hasenleitengasse trainieren alle\, die zumindest den weißen Pfeil haben und auch eigenes Material besitzen.\nDas Training findet jeweils Dienstags von 18:30 – 21:00 Uhr statt\, ausgenommen sind schulfreie Tage und Ferien. \nFür  aktuelle Information\, Sperrtage und die Erreichbarkeit des Standortes bitte auf der Standortseite der Hasenleitengasse nachlesen! \nDa der Standort nicht immer mit einer Standortleitung besetzt ist BITTE UNBEDINGT folgendes beachten: \n\nWer dort zum ersten Mal Trainieren kommt\, bitte immer vorab bei der Standortleitung mittles Mail-Adresse  hasenleitengasse@bogen.info  anmelden zwecks „Standorteinschulung“.\n\n 
URL:https://www.bogen.info/event/indoor-training-hasenleitengasse/2023-11-07/
LOCATION:Wien Standort Langobardenstraße\, Langobardenstraße 139\, Wien\, 1030\, Österreich
CATEGORIES:Wien
ATTACH;FMTTYPE=image/jpeg:https://www.bogen.info/wp-content/uploads/2023/06/Artemis-Logo-mit-Kreis-Jugend.jpg
ORGANIZER;CN="UBSC Artemis Wien":MAILTO:wien@bogen.info
END:VEVENT
END:VCALENDAR