BEGIN:VCALENDAR
VERSION:2.0
PRODID:-//Bogensportvereine Artemis Österreich - ECPv6.15.20//NONSGML v1.0//EN
CALSCALE:GREGORIAN
METHOD:PUBLISH
X-ORIGINAL-URL:https://www.bogen.info
X-WR-CALDESC:Veranstaltungen für Bogensportvereine Artemis Österreich
REFRESH-INTERVAL;VALUE=DURATION:PT1H
X-Robots-Tag:noindex
X-PUBLISHED-TTL:PT1H
BEGIN:VTIMEZONE
TZID:Europe/Vienna
BEGIN:DAYLIGHT
TZOFFSETFROM:+0100
TZOFFSETTO:+0200
TZNAME:CEST
DTSTART:20220327T010000
END:DAYLIGHT
BEGIN:STANDARD
TZOFFSETFROM:+0200
TZOFFSETTO:+0100
TZNAME:CET
DTSTART:20221030T010000
END:STANDARD
BEGIN:DAYLIGHT
TZOFFSETFROM:+0100
TZOFFSETTO:+0200
TZNAME:CEST
DTSTART:20230326T010000
END:DAYLIGHT
BEGIN:STANDARD
TZOFFSETFROM:+0200
TZOFFSETTO:+0100
TZNAME:CET
DTSTART:20231029T010000
END:STANDARD
BEGIN:DAYLIGHT
TZOFFSETFROM:+0100
TZOFFSETTO:+0200
TZNAME:CEST
DTSTART:20240331T010000
END:DAYLIGHT
BEGIN:STANDARD
TZOFFSETFROM:+0200
TZOFFSETTO:+0100
TZNAME:CET
DTSTART:20241027T010000
END:STANDARD
END:VTIMEZONE
BEGIN:VEVENT
DTSTART;TZID=Europe/Vienna:20231202T160000
DTEND;TZID=Europe/Vienna:20231202T200000
DTSTAMP:20260424T212041
CREATED:20231119T105111Z
LAST-MODIFIED:20231119T105111Z
UID:10005937-1701532800-1701547200@www.bogen.info
SUMMARY:Adventopening
DESCRIPTION:Die Spannberger Bogensportler schenken Punsch und Glühwein aus. \nFür das leibliche Wohl ist gesorgt!
URL:https://www.bogen.info/event/adventopening/
LOCATION:Spannberg Outdoor\, Grüngasse 10\, Spannberg\, Niederösterreich\, 2244
ATTACH;FMTTYPE=image/jpeg:https://www.bogen.info/wp-content/uploads/2023/11/Adventopening.jpg
ORGANIZER;CN="BSV Artemis Spannberg":MAILTO:spannberg@bogen.info
GEO:48.4611816;16.739688
X-APPLE-STRUCTURED-LOCATION;VALUE=URI;X-ADDRESS=Spannberg Outdoor Grüngasse 10 Spannberg Niederösterreich 2244;X-APPLE-RADIUS=500;X-TITLE=Grüngasse 10:geo:16.739688,48.4611816
END:VEVENT
END:VCALENDAR