BEGIN:VCALENDAR
VERSION:2.0
PRODID:-//Bogensportvereine Artemis Österreich - ECPv6.15.20//NONSGML v1.0//EN
CALSCALE:GREGORIAN
METHOD:PUBLISH
X-WR-CALNAME:Bogensportvereine Artemis Österreich
X-ORIGINAL-URL:https://www.bogen.info
X-WR-CALDESC:Veranstaltungen für Bogensportvereine Artemis Österreich
REFRESH-INTERVAL;VALUE=DURATION:PT1H
X-Robots-Tag:noindex
X-PUBLISHED-TTL:PT1H
BEGIN:VTIMEZONE
TZID:Europe/Vienna
BEGIN:DAYLIGHT
TZOFFSETFROM:+0100
TZOFFSETTO:+0200
TZNAME:CEST
DTSTART:20220327T010000
END:DAYLIGHT
BEGIN:STANDARD
TZOFFSETFROM:+0200
TZOFFSETTO:+0100
TZNAME:CET
DTSTART:20221030T010000
END:STANDARD
BEGIN:DAYLIGHT
TZOFFSETFROM:+0100
TZOFFSETTO:+0200
TZNAME:CEST
DTSTART:20230326T010000
END:DAYLIGHT
BEGIN:STANDARD
TZOFFSETFROM:+0200
TZOFFSETTO:+0100
TZNAME:CET
DTSTART:20231029T010000
END:STANDARD
BEGIN:DAYLIGHT
TZOFFSETFROM:+0100
TZOFFSETTO:+0200
TZNAME:CEST
DTSTART:20240331T010000
END:DAYLIGHT
BEGIN:STANDARD
TZOFFSETFROM:+0200
TZOFFSETTO:+0100
TZNAME:CET
DTSTART:20241027T010000
END:STANDARD
END:VTIMEZONE
BEGIN:VEVENT
DTSTART;TZID=Europe/Vienna:20231206T170000
DTEND;TZID=Europe/Vienna:20231206T190000
DTSTAMP:20260424T211901
CREATED:20231127T173800Z
LAST-MODIFIED:20231127T205640Z
UID:10005940-1701882000-1701889200@www.bogen.info
SUMMARY:Vereins-Seniorentraining 60+ am 6.12.2023
DESCRIPTION:Vereins-Seniorentraining 60+ am Mittwoch\, 6.12.2023:\nDas nächste Seniorentraining für Vereinsmitglieder 60+ findet am Mittwoch\, dem 6.12.2023 statt: \n\n18-19 Uhr aufwärmen\, anschließend Gleichgewicht und Koordinationstraining\nAb 19 Uhr Training mit dem Bogen\n\nWer als Vereinsmitglied 60+ Interesse hat\, bitte telefonisch an Cäcilia Krafschütz unter der Nummer 0664 45 08 702 zwecks Information und Anmeldung wenden. \nStandort: \nDer Standort Jochbergengasse wird während der Indoor-Saison\nvon unserem Team für das Seniorentraining benutzt.\nBei Interesse für die Teilnahme am Seniorentraining bitte an Frau Cäcilia Krafschütz wenden \n  \n 
URL:https://www.bogen.info/event/vereinstraining-60plus-20231206/
LOCATION:Wien Standort Jochbergengasse\, Jochbergengasse 1\, Wien\, Wien\, 1210\, Österreich
CATEGORIES:Kurse,Wien
ORGANIZER;CN="UBSC Artemis Wien":MAILTO:wien@bogen.info
END:VEVENT
BEGIN:VEVENT
DTSTART;TZID=Europe/Vienna:20231206T180000
DTEND;TZID=Europe/Vienna:20231206T200000
DTSTAMP:20260424T211901
CREATED:20231114T102618Z
LAST-MODIFIED:20240114T152153Z
UID:10005542-1701885600-1701892800@www.bogen.info
SUMMARY:Jugendtraining Leistungs- und Turniergruppe Wien
DESCRIPTION:Das Trainin der Leistungs- und Turniergruppe findet jeden Mittwoch von 18:00 – 20:00 statt. \nTrainiert wird auf Distanzen bis 18m. \nBei Interesse an der Teilnahme bei der Jugend-Aufbaugruppe bitte an Herrn Christoph Wach wenden.
URL:https://www.bogen.info/event/jugendtraining-leistungs-und-turniergruppe-wien/2023-12-06/
LOCATION:Wien Standort Langobardenstraße\, Langobardenstraße 139\, Wien\, 1030\, Österreich
CATEGORIES:Wien
ATTACH;FMTTYPE=image/jpeg:https://www.bogen.info/wp-content/uploads/2023/06/Artemis-Logo-mit-Kreis-Jugend.jpg
ORGANIZER;CN="UBSC Artemis Wien":MAILTO:wien@bogen.info
END:VEVENT
BEGIN:VEVENT
DTSTART;TZID=Europe/Vienna:20231206T181500
DTEND;TZID=Europe/Vienna:20231206T211500
DTSTAMP:20260424T211901
CREATED:20231114T112851Z
LAST-MODIFIED:20240322T223333Z
UID:10005796-1701886500-1701897300@www.bogen.info
SUMMARY:Indoor-Training Contiweg
DESCRIPTION:Hier trainieren alle\, die bereits selbstständig trainieren können – sprich zumindest den weißen Pfeil haben und auch eigenes Material besitzen.\nSomit können alle geübten Schützinnen und Schützen\, auch unserer Turniersportler\, ungestört trainieren. \nBeginn der Indoorsaison am Contiweg am 08.11.2023\nDas Training findet jeweils Mittwoch von 18:15 – 21:15 Uhr\, ausgenommen sind schulfreie Tage und Ferien. \nFür  aktuelle Information\, Sperrtage und die Erreichbarkeit des Standortes bitte auf der Standortseite Contiweg nachlesen bzw. bei der Standortleitung mittels Mail-Adresse contiweg@bogen.info nachfragen! \nACHTUNG: Am Contiweg ist eigenes Material erforderlich\, das Betreten der Halle ist nur mit Hallenschuhen (abriebfester Sohle) gestattet.
URL:https://www.bogen.info/event/indoor-training-contiweg/2023-12-06/
LOCATION:Wien Standort Langobardenstraße\, Langobardenstraße 139\, Wien\, 1030\, Österreich
CATEGORIES:Wien
ATTACH;FMTTYPE=image/jpeg:https://www.bogen.info/wp-content/uploads/2023/06/Artemis-Logo-mit-Kreis-Jugend.jpg
ORGANIZER;CN="UBSC Artemis Wien":MAILTO:wien@bogen.info
END:VEVENT
END:VCALENDAR