BEGIN:VCALENDAR
VERSION:2.0
PRODID:-//Bogensportvereine Artemis Österreich - ECPv6.15.20//NONSGML v1.0//EN
CALSCALE:GREGORIAN
METHOD:PUBLISH
X-ORIGINAL-URL:https://www.bogen.info
X-WR-CALDESC:Veranstaltungen für Bogensportvereine Artemis Österreich
REFRESH-INTERVAL;VALUE=DURATION:PT1H
X-Robots-Tag:noindex
X-PUBLISHED-TTL:PT1H
BEGIN:VTIMEZONE
TZID:Europe/Vienna
BEGIN:DAYLIGHT
TZOFFSETFROM:+0100
TZOFFSETTO:+0200
TZNAME:CEST
DTSTART:20230326T010000
END:DAYLIGHT
BEGIN:STANDARD
TZOFFSETFROM:+0200
TZOFFSETTO:+0100
TZNAME:CET
DTSTART:20231029T010000
END:STANDARD
BEGIN:DAYLIGHT
TZOFFSETFROM:+0100
TZOFFSETTO:+0200
TZNAME:CEST
DTSTART:20240331T010000
END:DAYLIGHT
BEGIN:STANDARD
TZOFFSETFROM:+0200
TZOFFSETTO:+0100
TZNAME:CET
DTSTART:20241027T010000
END:STANDARD
BEGIN:DAYLIGHT
TZOFFSETFROM:+0100
TZOFFSETTO:+0200
TZNAME:CEST
DTSTART:20250330T010000
END:DAYLIGHT
BEGIN:STANDARD
TZOFFSETFROM:+0200
TZOFFSETTO:+0100
TZNAME:CET
DTSTART:20251026T010000
END:STANDARD
END:VTIMEZONE
BEGIN:VEVENT
DTSTART;TZID=Europe/Vienna:20240320T180000
DTEND;TZID=Europe/Vienna:20240320T200000
DTSTAMP:20260424T112424
CREATED:20231114T102618Z
LAST-MODIFIED:20240114T152153Z
UID:10005557-1710957600-1710964800@www.bogen.info
SUMMARY:Jugendtraining Leistungs- und Turniergruppe Wien
DESCRIPTION:Das Trainin der Leistungs- und Turniergruppe findet jeden Mittwoch von 18:00 – 20:00 statt. \nTrainiert wird auf Distanzen bis 18m. \nBei Interesse an der Teilnahme bei der Jugend-Aufbaugruppe bitte an Herrn Christoph Wach wenden.
URL:https://www.bogen.info/event/jugendtraining-leistungs-und-turniergruppe-wien/2024-03-20/
LOCATION:Wien Standort Langobardenstraße\, Langobardenstraße 139\, Wien\, 1030\, Österreich
CATEGORIES:Wien
ATTACH;FMTTYPE=image/jpeg:https://www.bogen.info/wp-content/uploads/2023/06/Artemis-Logo-mit-Kreis-Jugend.jpg
ORGANIZER;CN="UBSC Artemis Wien":MAILTO:wien@bogen.info
END:VEVENT
END:VCALENDAR