BEGIN:VCALENDAR
VERSION:2.0
PRODID:-//Bogensportvereine Artemis Österreich - ECPv6.15.20//NONSGML v1.0//EN
CALSCALE:GREGORIAN
METHOD:PUBLISH
X-ORIGINAL-URL:https://www.bogen.info
X-WR-CALDESC:Veranstaltungen für Bogensportvereine Artemis Österreich
REFRESH-INTERVAL;VALUE=DURATION:PT1H
X-Robots-Tag:noindex
X-PUBLISHED-TTL:PT1H
BEGIN:VTIMEZONE
TZID:Europe/Vienna
BEGIN:DAYLIGHT
TZOFFSETFROM:+0100
TZOFFSETTO:+0200
TZNAME:CEST
DTSTART:20220327T010000
END:DAYLIGHT
BEGIN:STANDARD
TZOFFSETFROM:+0200
TZOFFSETTO:+0100
TZNAME:CET
DTSTART:20221030T010000
END:STANDARD
BEGIN:DAYLIGHT
TZOFFSETFROM:+0100
TZOFFSETTO:+0200
TZNAME:CEST
DTSTART:20230326T010000
END:DAYLIGHT
BEGIN:STANDARD
TZOFFSETFROM:+0200
TZOFFSETTO:+0100
TZNAME:CET
DTSTART:20231029T010000
END:STANDARD
BEGIN:DAYLIGHT
TZOFFSETFROM:+0100
TZOFFSETTO:+0200
TZNAME:CEST
DTSTART:20240331T010000
END:DAYLIGHT
BEGIN:STANDARD
TZOFFSETFROM:+0200
TZOFFSETTO:+0100
TZNAME:CET
DTSTART:20241027T010000
END:STANDARD
END:VTIMEZONE
BEGIN:VEVENT
DTSTART;TZID=Europe/Vienna:20230821T100000
DTEND;TZID=Europe/Vienna:20230821T170000
DTSTAMP:20260425T040026
CREATED:20230612T114751Z
LAST-MODIFIED:20230612T114751Z
UID:10005306-1692612000-1692637200@www.bogen.info
SUMMARY:Sommercamp 2023
DESCRIPTION:Artemis Sommercamp 2023\nAnfänger/Jugendliche/Kinder ab 10 Jahre/Wiedereinsteiger trainieren von Gustavo auf alle Distanzen. \nAnmeldung bei Christoph.Wach@bogen.info möglich.
URL:https://www.bogen.info/event/sommercamp-2023-2/2023-08-21/
LOCATION:Wien Standort Kagran (Kleefeld)\, Claudia Heill Weg 4\, Wien\, 1220\, Austria
CATEGORIES:Kurse
ORGANIZER;CN="UBSC Artemis Wien":MAILTO:wien@bogen.info
GEO:48.24702;16.45401
X-APPLE-STRUCTURED-LOCATION;VALUE=URI;X-ADDRESS=Wien Standort Kagran (Kleefeld) Claudia Heill Weg 4 Wien 1220 Austria;X-APPLE-RADIUS=500;X-TITLE=Claudia Heill Weg 4:geo:16.45401,48.24702
END:VEVENT
BEGIN:VEVENT
DTSTART;TZID=Europe/Vienna:20230822T100000
DTEND;TZID=Europe/Vienna:20230822T170000
DTSTAMP:20260425T040026
CREATED:20230612T114751Z
LAST-MODIFIED:20230612T114751Z
UID:10005307-1692698400-1692723600@www.bogen.info
SUMMARY:Sommercamp 2023
DESCRIPTION:Artemis Sommercamp 2023\nAnfänger/Jugendliche/Kinder ab 10 Jahre/Wiedereinsteiger trainieren von Gustavo auf alle Distanzen. \nAnmeldung bei Christoph.Wach@bogen.info möglich.
URL:https://www.bogen.info/event/sommercamp-2023-2/2023-08-22/
LOCATION:Wien Standort Kagran (Kleefeld)\, Claudia Heill Weg 4\, Wien\, 1220\, Austria
CATEGORIES:Kurse
ORGANIZER;CN="UBSC Artemis Wien":MAILTO:wien@bogen.info
GEO:48.24702;16.45401
X-APPLE-STRUCTURED-LOCATION;VALUE=URI;X-ADDRESS=Wien Standort Kagran (Kleefeld) Claudia Heill Weg 4 Wien 1220 Austria;X-APPLE-RADIUS=500;X-TITLE=Claudia Heill Weg 4:geo:16.45401,48.24702
END:VEVENT
BEGIN:VEVENT
DTSTART;TZID=Europe/Vienna:20230822T170000
DTEND;TZID=Europe/Vienna:20230822T190000
DTSTAMP:20260425T040026
CREATED:20230619T052537Z
LAST-MODIFIED:20230821T202053Z
UID:10005318-1692723600-1692730800@www.bogen.info
SUMMARY:Beginn Anfängerkurs mit Ursula 5/23 – am Freiplatz Kagran AUSGEBUCHT
DESCRIPTION:Der Kurs besteht aus diesen Terminen:\n\n22.08.2023 17:00 – 19:00\n29.08.2023 17:00 – 19:00\n05.09.2023 17:00 – 19:00\n12.09.2023 17:00 – 19:00\n\nAnfängerkurs Bogenschießen\nKursdauer: 4×2 Stunden\nKursleiterin: Ursula Kiesswetter \nKursumfang: \n\nVerhalten und Sicherheit beim Bogenschießen\nErlernen des Standard-Schussablaufs\nGrundlagen über das Material\nGrundlagen der verschiedenen Disziplinen beim Bogenschießen\nAblegen der ersten Pfeilprüfung zur Erlangung des „Weißen Pfeils“\n\nDie zweite Pfeilprüfung zum „Schwarzen Pfeil“ und damit die Erlangung der vollen Platzreife\nist im Kursbeitrag enthalten und kann nach selbstständigem Üben im Anschluss an den Kurs\nabgelegt werden.\n\nAnmeldung:\nDie Anmeldung erfolgt per Anmeldeformular unten. \nKursort:\nDer Kurs findet auf dem Freiplatz Kagran statt. \nKursablauf: \nDen ersten und wichtigsten Punkt stellt das Kennenlernen und Beherzigen der Sicherheits- und\nVerhaltensregeln beim Bogenschießen dar\, der sich über den ganzen Kurs fortsetzt. \nUm so schnell wie möglich Spaß beim Bogenschießen zu haben\, wird der Schussablauf sowohl im\nTrockentraining mit verschiedenen Hilfsmitteln als auch mit dem Bogen eingeübt. Die dabei erlernte\nGrundtechnik führt nicht nur rasch zu den ersten Erfolgserlebnissen\, sondern soll auch auch von\nAnfang an das Auftreten von gesundheitlichen Problemen verhindern. \nDa das richtige Material eine wichtige Rolle für den Spaß beim Bogenschießen spielt\, ist auch ein\nÜberblick über die verschiedenen Bogentypen und die notwendige Ausrüstung Inhalt des Kurses. Es\nwerden Sicherheit\, das Auf- und Abbauen und die Pflege des Materials besprochen. Für die Dauer\ndes Kurses wird die notwendige Ausrüstung bereitgestellt. Auch die Anschaffung des ersten eigenen\nBogens wird besprochen. \nEin weiteres Thema sind die verschiedenen Disziplinen im Bogensport. Es werden die Grundbegriffe\nScheibenschießen\, Feldparcours und 3D durchgenommen\, sowie auch hier die notwendigen\nSicherheitsregeln besprochen. Ebenso wird das richtige Werten von Pfeilen in Turniersituationen und\ndas korrekte Ausfüllen eines Scorezettels unterrichtet. \nIn der letzten Kurseinheit kann dann die erste Pfeilprüfung zum „Weißen Pfeil“\, bestehend aus einem\ntheoretischen und einem praktischen Teil\, abgelegt werden. Im Anschluss an den Kurs kann nach\nselbstständigem Üben\, natürlich auch mit Unterstützung der Coaches\, die Prüfung zum „Schwarzen\nPfeil“ abgelegt und somit die volle Platzreife erlangt werden. \nAnmelde-Formular
URL:https://www.bogen.info/event/beginn-anfaengerkurs-mit-ursula-5-23-am-freiplatz-kagran/
LOCATION:Wien Standort Kagran (Kleefeld)\, Claudia Heill Weg 4\, Wien\, 1220\, Austria
CATEGORIES:Kurse
ATTACH;FMTTYPE=image/jpeg:https://www.bogen.info/wp-content/uploads/2022/03/Anfaengerkurse-Wien.jpg
ORGANIZER;CN="UBSC Artemis Wien":MAILTO:wien@bogen.info
GEO:48.24702;16.45401
X-APPLE-STRUCTURED-LOCATION;VALUE=URI;X-ADDRESS=Wien Standort Kagran (Kleefeld) Claudia Heill Weg 4 Wien 1220 Austria;X-APPLE-RADIUS=500;X-TITLE=Claudia Heill Weg 4:geo:16.45401,48.24702
END:VEVENT
BEGIN:VEVENT
DTSTART;TZID=Europe/Vienna:20230823T100000
DTEND;TZID=Europe/Vienna:20230823T170000
DTSTAMP:20260425T040026
CREATED:20230612T114751Z
LAST-MODIFIED:20230612T114751Z
UID:10005308-1692784800-1692810000@www.bogen.info
SUMMARY:Sommercamp 2023
DESCRIPTION:Artemis Sommercamp 2023\nAnfänger/Jugendliche/Kinder ab 10 Jahre/Wiedereinsteiger trainieren von Gustavo auf alle Distanzen. \nAnmeldung bei Christoph.Wach@bogen.info möglich.
URL:https://www.bogen.info/event/sommercamp-2023-2/2023-08-23/
LOCATION:Wien Standort Kagran (Kleefeld)\, Claudia Heill Weg 4\, Wien\, 1220\, Austria
CATEGORIES:Kurse
ORGANIZER;CN="UBSC Artemis Wien":MAILTO:wien@bogen.info
GEO:48.24702;16.45401
X-APPLE-STRUCTURED-LOCATION;VALUE=URI;X-ADDRESS=Wien Standort Kagran (Kleefeld) Claudia Heill Weg 4 Wien 1220 Austria;X-APPLE-RADIUS=500;X-TITLE=Claudia Heill Weg 4:geo:16.45401,48.24702
END:VEVENT
BEGIN:VEVENT
DTSTART;TZID=Europe/Vienna:20230823T170000
DTEND;TZID=Europe/Vienna:20230823T190000
DTSTAMP:20260425T040026
CREATED:20230502T144546Z
LAST-MODIFIED:20231114T094337Z
UID:10005062-1692810000-1692817200@www.bogen.info
SUMMARY:Vereinstraining Wien
DESCRIPTION:Das traditionelle gemeinsame Vereinstraining findet jeden Mittwoch ab 17.00 Uhr statt. \nDabei sind auch alle AnfängerInnen\, die noch Leihmaterial benötigen immer herzlich willkommen und werden bestens beraten. \nEtwaige Fragen beantworten gerne eure Coaches und Standortleitungen.
URL:https://www.bogen.info/event/vereinstraining-wien/2023-08-23/
LOCATION:Wien Standort Kagran (Kleefeld)\, Claudia Heill Weg 4\, Wien\, 1220\, Austria
CATEGORIES:Wien
ATTACH;FMTTYPE=image/jpeg:https://www.bogen.info/wp-content/uploads/2022/01/DSC07572-scaled.jpg
GEO:48.24702;16.45401
X-APPLE-STRUCTURED-LOCATION;VALUE=URI;X-ADDRESS=Wien Standort Kagran (Kleefeld) Claudia Heill Weg 4 Wien 1220 Austria;X-APPLE-RADIUS=500;X-TITLE=Claudia Heill Weg 4:geo:16.45401,48.24702
END:VEVENT
BEGIN:VEVENT
DTSTART;TZID=Europe/Vienna:20230824T170000
DTEND;TZID=Europe/Vienna:20230824T190000
DTSTAMP:20260425T040026
CREATED:20230327T093619Z
LAST-MODIFIED:20230327T094315Z
UID:10005021-1692896400-1692903600@www.bogen.info
SUMMARY:Training "Jugend_1A - Leistung"
DESCRIPTION:Training “Jugend_1A – Leistung”\n  \nDauer: April – September (Donnerstag von 17:00-19:00 und Samstag von 13:30-15:30) Outdoorplatz Stockerau \nBeginn: 01.04.2023 \nTrainer: Ingrid & Ernst \nUmfang:\nDu bist zwischen 10 und 18 Jahre alt?\nDu kennst die Grundtechnik des Bogenschießens und schießt sicher auf 18m Indoor und 30m Outdoor?\nDu willst mehr als nur Spaß haben?\nDu möchtest an Turnieren teilnehmen und dich mit anderen messen?\nDann bist du hier richtig! \nEinstieg jederzeit möglich! \n  \nAnmeldung:\nDie Anmeldung erfolgt hier.
URL:https://www.bogen.info/event/training-jugend_1a-leistung-2/2023-08-24/
LOCATION:Stockerau Outdoorplatz\, UBSC Artemis Stockerau - Au\, Stockerau\, Niederösterreich\, 2000\, Österreich
CATEGORIES:Kurse
ATTACH;FMTTYPE=image/jpeg:https://www.bogen.info/wp-content/uploads/2022/04/Jugend_1A_Logo.jpg
GEO:48.376995269107;16.211077346419
X-APPLE-STRUCTURED-LOCATION;VALUE=URI;X-ADDRESS=Stockerau Outdoorplatz UBSC Artemis Stockerau - Au Stockerau Niederösterreich 2000 Österreich;X-APPLE-RADIUS=500;X-TITLE=UBSC Artemis Stockerau - Au:geo:16.211077346419,48.376995269107
END:VEVENT
BEGIN:VEVENT
DTSTART;TZID=Europe/Vienna:20230824T173000
DTEND;TZID=Europe/Vienna:20230824T193000
DTSTAMP:20260425T040026
CREATED:20230606T065603Z
LAST-MODIFIED:20231114T100909Z
UID:10005231-1692898200-1692905400@www.bogen.info
SUMMARY:Jugendtraining Wien
DESCRIPTION:Das Jugendtraining findet jeden Donnerstag von 17:30 – 19:30 statt. \nEs trainieren sowohl die Aufbaugruppe auf die kurzen als auch die Turniergruppe auf die langen Distanzen.
URL:https://www.bogen.info/event/jugendtraining-wien/2023-08-24/
LOCATION:Wien Standort Kagran (Kleefeld)\, Claudia Heill Weg 4\, Wien\, 1220\, Austria
CATEGORIES:Wien
ATTACH;FMTTYPE=image/jpeg:https://www.bogen.info/wp-content/uploads/2023/06/Artemis-Logo-mit-Kreis-Jugend.jpg
GEO:48.24702;16.45401
X-APPLE-STRUCTURED-LOCATION;VALUE=URI;X-ADDRESS=Wien Standort Kagran (Kleefeld) Claudia Heill Weg 4 Wien 1220 Austria;X-APPLE-RADIUS=500;X-TITLE=Claudia Heill Weg 4:geo:16.45401,48.24702
END:VEVENT
BEGIN:VEVENT
DTSTART;VALUE=DATE:20230825
DTEND;VALUE=DATE:20230828
DTSTAMP:20260425T040026
CREATED:20221029T100124Z
LAST-MODIFIED:20230325T132030Z
UID:10004775-1692921600-1693180799@www.bogen.info
SUMMARY:(L) ÖSTM/ÖM WA 3D
DESCRIPTION:Bitte lesen: https://www.oebsv.com/news/oebsv-news/6126-oestm-wa-3d \n 
URL:https://www.bogen.info/event/l-oestm-oem-wa-3d/
CATEGORIES:Turnierkalender,Veranstaltungen,Wien
END:VEVENT
BEGIN:VEVENT
DTSTART;TZID=Europe/Vienna:20230825T120000
DTEND;TZID=Europe/Vienna:20230825T170000
DTSTAMP:20260425T040026
CREATED:20230612T114918Z
LAST-MODIFIED:20230612T115040Z
UID:10005312-1692964800-1692982800@www.bogen.info
SUMMARY:Sommercamp 2023
DESCRIPTION:Artemis Sommercamp 2023\nAnfänger/Jugendliche/Kinder ab 10 Jahre/Wiedereinsteiger trainieren von Gustavo auf alle Distanzen. \nAnmeldung bei Christoph.Wach@bogen.info möglich.
URL:https://www.bogen.info/event/sommercamp-2023-3/
LOCATION:Wien Standort Kagran (Kleefeld)\, Claudia Heill Weg 4\, Wien\, 1220\, Austria
CATEGORIES:Kurse
ORGANIZER;CN="UBSC Artemis Wien":MAILTO:wien@bogen.info
GEO:48.24702;16.45401
X-APPLE-STRUCTURED-LOCATION;VALUE=URI;X-ADDRESS=Wien Standort Kagran (Kleefeld) Claudia Heill Weg 4 Wien 1220 Austria;X-APPLE-RADIUS=500;X-TITLE=Claudia Heill Weg 4:geo:16.45401,48.24702
END:VEVENT
BEGIN:VEVENT
DTSTART;TZID=Europe/Vienna:20230826T103000
DTEND;TZID=Europe/Vienna:20230826T123000
DTSTAMP:20260425T040026
CREATED:20230306T110951Z
LAST-MODIFIED:20230306T110951Z
UID:10004928-1693045800-1693053000@www.bogen.info
SUMMARY:Training "Jugend_3" - Anfänger
DESCRIPTION:Training “Jugend_3” – Anfänger\nDauer: April – September ( Samstag von 10:30-12:30) Outdoorplatz Stockerau\nBeginn: 01.04.2023 \nTrainer: Ingrid & Ernst \nUmfang:\nSpielerisch werden wir dir die Grundtechnik des Bogenschießens vermitteln\, aber auch Reaktions – und Konzentrationsaufgaben sowie Teamspiele stehen auf unserem Trainingsplan. Auch das Schießen auf Luftballons und Fun – Auflagen darf natürlich nicht fehlen. \nEinstieg jederzeit möglich! \nAnmeldung:\nDie Anmeldung erfolgt hier.
URL:https://www.bogen.info/event/training-jugend_3-anfaenger-2/2023-08-26/
LOCATION:Stockerau Outdoorplatz\, UBSC Artemis Stockerau - Au\, Stockerau\, Niederösterreich\, 2000\, Österreich
CATEGORIES:Kurse,Stockerau
ATTACH;FMTTYPE=image/jpeg:https://www.bogen.info/wp-content/uploads/2022/04/Training_Jugend3_Logo_klein.jpg
ORGANIZER;CN="UBSC Artemis Stockerau":MAILTO:stockerau@bogen.info
GEO:48.376995269107;16.211077346419
X-APPLE-STRUCTURED-LOCATION;VALUE=URI;X-ADDRESS=Stockerau Outdoorplatz UBSC Artemis Stockerau - Au Stockerau Niederösterreich 2000 Österreich;X-APPLE-RADIUS=500;X-TITLE=UBSC Artemis Stockerau - Au:geo:16.211077346419,48.376995269107
END:VEVENT
BEGIN:VEVENT
DTSTART;TZID=Europe/Vienna:20230826T133000
DTEND;TZID=Europe/Vienna:20230826T153000
DTSTAMP:20260425T040026
CREATED:20220418T194918Z
LAST-MODIFIED:20230306T104501Z
UID:10004609-1693056600-1693063800@www.bogen.info
SUMMARY:Training "Jugend_1B" - Leistung - Outdoorplatz Stockerau
DESCRIPTION:Training “Jugend_1B” – Leistung\nDauer: April – September ( Samstag von 13:30-15:30) Outdoorplatz Stockerau \nBeginn: 01 .04.2023 \nTrainer: Ingrid & Ernst \nUmfang:\nDu bist zwischen 10 und 18 Jahre alt?\nDu kennst die Grundtechnik des Bogenschießens und schießt sicher auf 18m Indoor und 30m Outdoor?\nDu willst mehr als nur Spaß haben?\nDu möchtest an Turnieren teilnehmen und dich mit anderen messen?\nDann bist du hier richtig! \nEinstieg jederzeit möglich! \nAnmeldung:\nDie Anmeldung erfolgt hier.
URL:https://www.bogen.info/event/betreutes-training-fuer-erwachsene-mit-barbara-ingrid-martin-ernst-und-michael-outdoorplatz-stockerau/2023-08-26/
LOCATION:Stockerau Outdoorplatz\, UBSC Artemis Stockerau - Au\, Stockerau\, Niederösterreich\, 2000\, Österreich
CATEGORIES:Kurse,Stockerau
ATTACH;FMTTYPE=image/jpeg:https://www.bogen.info/wp-content/uploads/2022/04/Jugend_1B_Logo.jpg
ORGANIZER;CN="UBSC Artemis Stockerau":MAILTO:stockerau@bogen.info
GEO:48.376995269107;16.211077346419
X-APPLE-STRUCTURED-LOCATION;VALUE=URI;X-ADDRESS=Stockerau Outdoorplatz UBSC Artemis Stockerau - Au Stockerau Niederösterreich 2000 Österreich;X-APPLE-RADIUS=500;X-TITLE=UBSC Artemis Stockerau - Au:geo:16.211077346419,48.376995269107
END:VEVENT
BEGIN:VEVENT
DTSTART;TZID=Europe/Vienna:20230826T133000
DTEND;TZID=Europe/Vienna:20230826T153000
DTSTAMP:20260425T040026
CREATED:20230327T092052Z
LAST-MODIFIED:20230327T094425Z
UID:10004995-1693056600-1693063800@www.bogen.info
SUMMARY:Training "Jugend_1A - Leistung"
DESCRIPTION:Training “Jugend_1A – Leistung”\n  \nDauer: April – September (Donnerstag von 17:00-19:00 und Samstag von 13:30-15:30) Outdoorplatz Stockerau \nBeginn: 01.04.2023 \nTrainer: Ingrid & Ernst \nUmfang:\nDu bist zwischen 10 und 18 Jahre alt?\nDu kennst die Grundtechnik des Bogenschießens und schießt sicher auf 18m Indoor und 30m Outdoor?\nDu willst mehr als nur Spaß haben?\nDu möchtest an Turnieren teilnehmen und dich mit anderen messen?\nDann bist du hier richtig! \nEinstieg jederzeit möglich! \n  \nAnmeldung:\nDie Anmeldung erfolgt hier.
URL:https://www.bogen.info/event/training-jugend_1a-leistung/2023-08-26/
LOCATION:Stockerau Outdoorplatz\, UBSC Artemis Stockerau - Au\, Stockerau\, Niederösterreich\, 2000\, Österreich
CATEGORIES:Kurse
ATTACH;FMTTYPE=image/jpeg:https://www.bogen.info/wp-content/uploads/2022/04/Jugend_1A_Logo.jpg
GEO:48.376995269107;16.211077346419
X-APPLE-STRUCTURED-LOCATION;VALUE=URI;X-ADDRESS=Stockerau Outdoorplatz UBSC Artemis Stockerau - Au Stockerau Niederösterreich 2000 Österreich;X-APPLE-RADIUS=500;X-TITLE=UBSC Artemis Stockerau - Au:geo:16.211077346419,48.376995269107
END:VEVENT
BEGIN:VEVENT
DTSTART;TZID=Europe/Vienna:20230826T153000
DTEND;TZID=Europe/Vienna:20230826T173000
DTSTAMP:20260425T040026
CREATED:20230306T110256Z
LAST-MODIFIED:20230319T191431Z
UID:10004874-1693063800-1693071000@www.bogen.info
SUMMARY:Betreutes Training für Erwachsene - Outdoorplatz
DESCRIPTION:Betreutes Training für Erwachsene – Bogenschießen\nDauer: April – September 2023 (Samstag\, 15:30-17:30) – Outdoorplatz Stockerau \nTrainingsbeginn: 01.04.2023 \nTrainer: Martin \nUmfang:\nWir bieten während der Outdoorsaison ein geführtes Training an. Das bedeutet\, dass in dieser Zeit immer ein Übungsleiter/Instruktor da sein und mit euch gemeinsam trainieren wird. So kann gut auf individuelle Wünsche und Probleme eingegangen werden.Das bietet die Möglichkeit\, jederzeit Fragen zu stellen und sich gegenseitig auszutauschen. Du erhältst Tipps und Übungsmöglichkeiten um dein Training interessanter und abwechslungsreicher zu gestalten.Es gibt bei jedem Termin einen bestimmten Schwerpunkt. Eine tolle Möglichkeit für alle Erwachsenen die zumindest einmal pro Woche in der Gruppe trainieren möchten. \nAnmeldung:\nDie Anmeldung erfolgt hier.
URL:https://www.bogen.info/event/betreutes-training-fuer-erwachsene-outdoorplatz/2023-08-26/
LOCATION:Stockerau Outdoorplatz\, UBSC Artemis Stockerau - Au\, Stockerau\, Niederösterreich\, 2000\, Österreich
CATEGORIES:Kurse,Stockerau
ATTACH;FMTTYPE=image/jpeg:https://www.bogen.info/wp-content/uploads/2022/10/BetreutesTraining_Logo_klein1.jpg
ORGANIZER;CN="UBSC Artemis Stockerau":MAILTO:stockerau@bogen.info
GEO:48.376995269107;16.211077346419
X-APPLE-STRUCTURED-LOCATION;VALUE=URI;X-ADDRESS=Stockerau Outdoorplatz UBSC Artemis Stockerau - Au Stockerau Niederösterreich 2000 Österreich;X-APPLE-RADIUS=500;X-TITLE=UBSC Artemis Stockerau - Au:geo:16.211077346419,48.376995269107
END:VEVENT
BEGIN:VEVENT
DTSTART;TZID=Europe/Vienna:20230826T153000
DTEND;TZID=Europe/Vienna:20230826T173000
DTSTAMP:20260425T040026
CREATED:20230306T110605Z
LAST-MODIFIED:20230306T110605Z
UID:10004901-1693063800-1693071000@www.bogen.info
SUMMARY:Training "Jugend_2" - Fortgeschrittene
DESCRIPTION:Training “Jugend_2” – Fortgeschrittene\nDauer: April – September ( Samstag von 15:30-17:30) Outdoorplatz Stockerau \nBeginn: 01.04.2023 \nTrainer: Ingrid & Ernst \nUmfang:\nIn dieser Trainingsgruppe bieten wir dir das Vertiefen und Festigen der Grundtechnik\, kombiniert mit Spiel und Spaß an. Spaß – Wettbewerbe und Schießen auf  Fun – Auflagen gehören auch dazu\, ebenso wie Übungen zum Kraftaufbau\, zur Konzentration – und Ausdauersteigerung. Für alle Jugendlichen zwischen 10 und 18 Jahre\, denen Bogenschießen gefällt und die gerne mit Gleichgesinnten ihre Kenntnisse vertiefen\, Freundschaften bilden und ihr Können bei Events unter Beweis stellen wollen\, ist diese Trainingsgruppe die richtige. \nEinstieg jederzeit möglich! \nAnmeldung:\nDie Anmeldung erfolgt hier.
URL:https://www.bogen.info/event/training-jugend_2-fortgeschrittene/2023-08-26/
LOCATION:Stockerau Outdoorplatz\, UBSC Artemis Stockerau - Au\, Stockerau\, Niederösterreich\, 2000\, Österreich
CATEGORIES:Kurse,Stockerau
ATTACH;FMTTYPE=image/jpeg:https://www.bogen.info/wp-content/uploads/2022/04/Training_Jugend2_Logo_klein.jpg
ORGANIZER;CN="UBSC Artemis Stockerau":MAILTO:stockerau@bogen.info
GEO:48.376995269107;16.211077346419
X-APPLE-STRUCTURED-LOCATION;VALUE=URI;X-ADDRESS=Stockerau Outdoorplatz UBSC Artemis Stockerau - Au Stockerau Niederösterreich 2000 Österreich;X-APPLE-RADIUS=500;X-TITLE=UBSC Artemis Stockerau - Au:geo:16.211077346419,48.376995269107
END:VEVENT
BEGIN:VEVENT
DTSTART;TZID=Europe/Vienna:20230826T153000
DTEND;TZID=Europe/Vienna:20230826T173000
DTSTAMP:20260425T040026
CREATED:20230327T090613Z
LAST-MODIFIED:20230327T090613Z
UID:10004967-1693063800-1693071000@www.bogen.info
SUMMARY:Leistungsorientiertes Training für Erwachsene - Outdoorplatz Stockerau
DESCRIPTION:Leistungsorientiertes Training für Erwachsene\n  \nDauer: April-September (Samstag 15:30-17:30) – Freiplatz Stockerau \nTrainingsbeginn: 01.04.2023 \nTrainer: Michael \n  \nWir bieten für oben genannten Zeitraum ein leistungsorientiertes Training an. Das bedeutet\, es wird gezielt mit jedem einzelnen trainiert um die eigene Leistungsfähigkeit ständig zu steigern. Eine Möglichkeit für alle Erwachsenen\, bei denen der Leistungsgedanke im Vordergrund steht\, Turnierteilnahmen und regelmäßige Trainingsteilnahmen sind hier Voraussetzung. \n  \nAnmeldung: \nDie Anmeldung erfolgt hier.
URL:https://www.bogen.info/event/leistungsorientiertes-training-fuer-erwachsene-outdoorplatz-stockerau/2023-08-26/
LOCATION:Stockerau Outdoorplatz\, UBSC Artemis Stockerau - Au\, Stockerau\, Niederösterreich\, 2000\, Österreich
CATEGORIES:Kurse
ATTACH;FMTTYPE=image/jpeg:https://www.bogen.info/wp-content/uploads/2023/03/Turniergruppe_Logo.jpg
GEO:48.376995269107;16.211077346419
X-APPLE-STRUCTURED-LOCATION;VALUE=URI;X-ADDRESS=Stockerau Outdoorplatz UBSC Artemis Stockerau - Au Stockerau Niederösterreich 2000 Österreich;X-APPLE-RADIUS=500;X-TITLE=UBSC Artemis Stockerau - Au:geo:16.211077346419,48.376995269107
END:VEVENT
BEGIN:VEVENT
DTSTART;TZID=Europe/Vienna:20230826T163000
DTEND;TZID=Europe/Vienna:20230826T173000
DTSTAMP:20260425T040026
CREATED:20230627T135653Z
LAST-MODIFIED:20230627T140437Z
UID:10005330-1693067400-1693071000@www.bogen.info
SUMMARY:Seniorentraining
DESCRIPTION:Hierbei geht es um Gleichgewicht und Koordination von Körper und Geist in spielerischer Kombination\, natürlich auch Richtung unseres Lieblingssports. \nBei Interesse kann man sich bei mir\, Cäcilia Krafschütz\, telefonisch unter 0664 4508702 oder per Mail caecilia.krafschuetz@bogen.info anmelden. \nAuf ein gemeinsames trainieren freut sich bereits jetzt schon \nEure Übungsleiterin im Seniorensport\nCäcilia Krafschütz
URL:https://www.bogen.info/event/seniorentraining/2023-08-26/
LOCATION:Wien Standort Kagran (Kleefeld)\, Claudia Heill Weg 4\, Wien\, 1220\, Austria
CATEGORIES:Kurse,Wien
ATTACH;FMTTYPE=image/jpeg:https://www.bogen.info/wp-content/uploads/2022/02/20200222_163533-scaled.jpg
GEO:48.24702;16.45401
X-APPLE-STRUCTURED-LOCATION;VALUE=URI;X-ADDRESS=Wien Standort Kagran (Kleefeld) Claudia Heill Weg 4 Wien 1220 Austria;X-APPLE-RADIUS=500;X-TITLE=Claudia Heill Weg 4:geo:16.45401,48.24702
END:VEVENT
END:VCALENDAR